BEGIN:VCALENDAR
VERSION:2.0
PRODID:-//Le Tétras Libre - Centre de Sauvegarde de la Faune Sauvage des Pays de Savoie - ECPv4.7.4//NONSGML v1.0//EN
CALSCALE:GREGORIAN
METHOD:PUBLISH
X-WR-CALNAME:Le Tétras Libre - Centre de Sauvegarde de la Faune Sauvage des Pays de Savoie
X-ORIGINAL-URL:https://www.csfs-paysdesavoie.org
X-WR-CALDESC:Évènements pour Le Tétras Libre - Centre de Sauvegarde de la Faune Sauvage des Pays de Savoie
BEGIN:VEVENT
DTSTART;VALUE=DATE:20250515
DTEND;VALUE=DATE:20250519
DTSTAMP:20260425T105802
CREATED:20250227T160636Z
LAST-MODIFIED:20250227T171330Z
UID:4685-1747267200-1747612799@www.csfs-paysdesavoie.org
SUMMARY:Regard Animalier
DESCRIPTION:Festival du documentaire animalier. \nCe festival est une compétition de documentaires qui promeut l’originalité\, le regard d’auteur et la créativité dans le cinéma animalier. \nDates de présence du Tetras Libre à confirmer ultérieurement \n \n
URL:https://www.csfs-paysdesavoie.org/evenement/regard-animalier/
LOCATION:Sainte Marie d’Alloix\, 370 Rte nationale\, 38660
CATEGORIES:Stand Représentation
END:VEVENT
END:VCALENDAR